BEGIN:VCALENDAR
VERSION:2.0
PRODID:DPCALENDAR
CALSCALE:GREGORIAN
BEGIN:VTIMEZONE
TZID:Europe/London
X-MICROSOFT-CDO-TZID:1
BEGIN:STANDARD
DTSTART:20251026T010000
TZOFFSETFROM:+0100
TZOFFSETTO:+0000
TZNAME:GMT
END:STANDARD
BEGIN:STANDARD
DTSTART:20261025T010000
TZOFFSETFROM:+0100
TZOFFSETTO:+0000
TZNAME:GMT
END:STANDARD
BEGIN:DAYLIGHT
DTSTART:20260329T010000
TZOFFSETFROM:+0000
TZOFFSETTO:+0100
TZNAME:BST
END:DAYLIGHT
END:VTIMEZONE
X-WR-TIMEZONE:Europe/London
BEGIN:VEVENT
DTSTART;TZID=Europe/London:20181212T200000
DTEND;TZID=Europe/London:20181212T210000
UID:40D259EA-054D-4D20-BC4E-106291C7C86D
SUMMARY:Cobham Heritage Open Meeting
CREATED:20181007T235716Z
DTSTAMP:20181007T235716Z
DESCRIPTION:
X-ALT-DESC;FMTTYPE=text/html:
LOCATION:Lushington Drive\, KT11 2LU Cobham\, England\, United Kingdom
GEO:51.33125820;-0.41257280
LAST-MODIFIED:20181122T182532Z
SEQUENCE:3954496
X-ACCESS:1
X-HITS:1296
X-URL:https://www.cobhamheritage.org.uk/index.php?option=com_dpcalendar&view=event&id=1&calid=54
X-COLOR:3366cc
X-SHOW-END-TIME:0
END:VEVENT
BEGIN:VEVENT
DTSTART;TZID=Europe/London:20190320T200000
DTEND;TZID=Europe/London:20190320T213000
UID:6D280DDF-1273-4D3D-8279-C45FECD84815
SUMMARY:Cobham Heritage Open Meeting AGM
CREATED:20181007T235716Z
DTSTAMP:20181007T235716Z
DESCRIPTION:Annual General Meeting
X-ALT-DESC;FMTTYPE=text/html:<p>Annual General Meeting</p>
LOCATION:Lushington Drive\, KT11 2LU Cobham\, England\, United Kingdom
GEO:51.33125820;-0.41257280
LAST-MODIFIED:20181220T184245Z
SEQUENCE:6374729
X-ACCESS:1
X-HITS:2605
X-URL:https://www.cobhamheritage.org.uk/index.php?option=com_dpcalendar&view=event&id=3&calid=54
X-COLOR:3366cc
X-SHOW-END-TIME:0
END:VEVENT
BEGIN:VEVENT
DTSTART;TZID=Europe/London:20190619T200000
DTEND;TZID=Europe/London:20190619T213000
UID:D32BEEEF-FD0D-4BA2-A640-4A694AF99137
SUMMARY:Cobham Heritage Open Meeting
CREATED:20181007T235716Z
DTSTAMP:20181007T235716Z
DESCRIPTION:
X-ALT-DESC;FMTTYPE=text/html:
LOCATION:Lushington Drive\, KT11 2LU Cobham\, England\, United Kingdom
GEO:51.33125820;-0.41257280
LAST-MODIFIED:20181220T184316Z
SEQUENCE:6374760
X-ACCESS:1
X-HITS:1453
X-URL:https://www.cobhamheritage.org.uk/index.php?option=com_dpcalendar&view=event&id=4&calid=54
X-COLOR:3366cc
X-SHOW-END-TIME:0
END:VEVENT
BEGIN:VEVENT
DTSTART;TZID=Europe/London:20190925T200000
DTEND;TZID=Europe/London:20190925T213000
UID:A610FF43-A419-4EF0-9F96-27F98115319C
SUMMARY:Cobham Heritage Open Meeting
CREATED:20181007T235716Z
DTSTAMP:20181007T235716Z
DESCRIPTION:
X-ALT-DESC;FMTTYPE=text/html:
LOCATION:Lushington Drive\, KT11 2LU Cobham\, England\, United Kingdom
GEO:51.33125820;-0.41257280
LAST-MODIFIED:20181220T184343Z
SEQUENCE:6374787
X-ACCESS:1
X-HITS:767
X-URL:https://www.cobhamheritage.org.uk/index.php?option=com_dpcalendar&view=event&id=5&calid=54
X-COLOR:3366cc
X-SHOW-END-TIME:0
END:VEVENT
BEGIN:VEVENT
DTSTART;TZID=Europe/London:20191211T200000
DTEND;TZID=Europe/London:20191211T213000
UID:C3108855-0346-46DD-BCB9-1F9B3356D324
SUMMARY:Cobham Heritage Open Meeting
CREATED:20181007T235716Z
DTSTAMP:20181007T235716Z
DESCRIPTION:
X-ALT-DESC;FMTTYPE=text/html:
LOCATION:Lushington Drive\, KT11 2LU Cobham\, England\, United Kingdom
GEO:51.33125820;-0.41257280
LAST-MODIFIED:20181220T184140Z
SEQUENCE:6374664
X-ACCESS:1
X-HITS:764
X-URL:https://www.cobhamheritage.org.uk/index.php?option=com_dpcalendar&view=event&id=2&calid=54
X-COLOR:3366cc
X-SHOW-END-TIME:0
END:VEVENT
BEGIN:VEVENT
DTSTART;TZID=Europe/London:20200318T200000
DTEND;TZID=Europe/London:20200318T213000
UID:CC8BE04A-7EB1-4223-99DE-81D337D2B1AA
SUMMARY:Cobham Heritage AGM & Open Meeting - POSTPONED
CREATED:20181007T235716Z
DTSTAMP:20181007T235716Z
DESCRIPTION:
X-ALT-DESC;FMTTYPE=text/html:
LOCATION:Lushington Drive\, KT11 2LU Cobham\, England\, United Kingdom
GEO:51.33125820;-0.41257280
LAST-MODIFIED:20200316T150335Z
SEQUENCE:45414379
X-ACCESS:1
X-HITS:280
X-URL:https://www.cobhamheritage.org.uk/index.php?option=com_dpcalendar&view=event&id=47&calid=54
X-COLOR:3366cc
X-SHOW-END-TIME:0
END:VEVENT
BEGIN:VEVENT
DTSTART;TZID=Europe/London:20200617T200000
DTEND;TZID=Europe/London:20200617T213000
UID:77D84D91-4FDF-4A3C-8945-4710DD0431B9
SUMMARY:Cobham Heritage Open Meeting
CREATED:20181007T235716Z
DTSTAMP:20181007T235716Z
DESCRIPTION:
X-ALT-DESC;FMTTYPE=text/html:
LOCATION:Lushington Drive\, KT11 2LU Cobham\, England\, United Kingdom
GEO:51.33125820;-0.41257280
LAST-MODIFIED:20200112T201429Z
SEQUENCE:39903433
X-ACCESS:1
X-HITS:423
X-URL:https://www.cobhamheritage.org.uk/index.php?option=com_dpcalendar&view=event&id=46&calid=54
X-COLOR:3366cc
X-SHOW-END-TIME:0
END:VEVENT
BEGIN:VEVENT
DTSTART;TZID=Europe/London:20200923T200000
DTEND;TZID=Europe/London:20200923T213000
UID:960DE849-52F5-4D2C-ADF5-B8EB14E0B402
SUMMARY:Cobham Heritage Open Meeting
CREATED:20181007T235716Z
DTSTAMP:20181007T235716Z
DESCRIPTION:
X-ALT-DESC;FMTTYPE=text/html:
LOCATION:Lushington Drive\, KT11 2LU Cobham\, England\, United Kingdom
GEO:51.33125820;-0.41257280
LAST-MODIFIED:20200112T201543Z
SEQUENCE:39903507
X-ACCESS:1
X-HITS:799
X-URL:https://www.cobhamheritage.org.uk/index.php?option=com_dpcalendar&view=event&id=48&calid=54
X-COLOR:3366cc
X-SHOW-END-TIME:0
END:VEVENT
BEGIN:VEVENT
DTSTART;TZID=Europe/London:20201209T200000
DTEND;TZID=Europe/London:20201209T213000
UID:8404FD26-EFFA-4C7A-A809-CE41A0A19504
SUMMARY:Cobham Heritage Open Meeting
CREATED:20181007T235716Z
DTSTAMP:20181007T235716Z
DESCRIPTION:
X-ALT-DESC;FMTTYPE=text/html:
LOCATION:Lushington Drive\, KT11 2LU Cobham\, England\, United Kingdom
GEO:51.33125820;-0.41257280
LAST-MODIFIED:20200112T201606Z
SEQUENCE:39903530
X-ACCESS:1
X-HITS:1006
X-URL:https://www.cobhamheritage.org.uk/index.php?option=com_dpcalendar&view=event&id=49&calid=54
X-COLOR:3366cc
X-SHOW-END-TIME:0
END:VEVENT
END:VCALENDAR