BEGIN:VCALENDAR
VERSION:2.0
PRODID:DPCALENDAR
CALSCALE:GREGORIAN
BEGIN:VTIMEZONE
TZID:Europe/London
X-MICROSOFT-CDO-TZID:1
BEGIN:STANDARD
DTSTART:20251026T010000
TZOFFSETFROM:+0100
TZOFFSETTO:+0000
TZNAME:GMT
END:STANDARD
BEGIN:STANDARD
DTSTART:20261025T010000
TZOFFSETFROM:+0100
TZOFFSETTO:+0000
TZNAME:GMT
END:STANDARD
BEGIN:DAYLIGHT
DTSTART:20260329T010000
TZOFFSETFROM:+0000
TZOFFSETTO:+0100
TZNAME:BST
END:DAYLIGHT
END:VTIMEZONE
X-WR-TIMEZONE:Europe/London
BEGIN:VEVENT
DTSTART;TZID=Europe/London:20190316T140000
DTEND;TZID=Europe/London:20190316T170000
RRULE:FREQ=MONTHLY;BYDAY=2SU;INTERVAL=1;UNTIL=20191013T235900Z
UID:701BBEC8-C81E-4B4E-A194-8C45C379B462
SUMMARY:Cobham Mill Open Day
CREATED:20190316T172740Z
DTSTAMP:20190316T172740Z
DESCRIPTION:The mill is open on the second Sunday of the month from April to October 2pm–5pm. The milling of corn is carried out during these openings, and a short video presentation about the mill and its restoration is shown at intervals.
X-ALT-DESC;FMTTYPE=text/html:<p>The mill is open on the second Sunday of the month from April to October 2pm–5pm. The milling of corn is carried out during these openings, and a short video presentation about the mill and its restoration is shown at intervals.</p>
X-ACCESS:1
X-HITS:0
X-URL:www.cobhammill.org.uk
X-COLOR:4fa84c
X-SHOW-END-TIME:1
END:VEVENT
BEGIN:VEVENT
DTSTART;TZID=Europe/London:20190914T130000
DTEND;TZID=Europe/London:20190914T163000
UID:7819D8A8-2A54-4323-B48A-07647DFAD643
SUMMARY:Cobham Mill - Heritage Day Opening
CREATED:20190316T173221Z
DTSTAMP:20190316T173221Z
DESCRIPTION:The mill is open on Cobham Heritage Day. The milling of corn is carried out during these openings, and a short video presentation about the mill and its restoration is shown at intervals.
X-ALT-DESC;FMTTYPE=text/html:<p>The mill is open on Cobham Heritage Day. The milling of corn is carried out during these openings, and a short video presentation about the mill and its restoration&nbsp;is shown at intervals.</p>
X-ACCESS:1
X-HITS:239
X-URL:www.cobhammill.org.uk
X-COLOR:4fa84c
X-SHOW-END-TIME:1
END:VEVENT
END:VCALENDAR