BEGIN:VCALENDAR
VERSION:2.0
PRODID:DPCALENDAR
CALSCALE:GREGORIAN
BEGIN:VTIMEZONE
TZID:Europe/London
X-MICROSOFT-CDO-TZID:1
BEGIN:STANDARD
DTSTART:20251026T010000
TZOFFSETFROM:+0100
TZOFFSETTO:+0000
TZNAME:GMT
END:STANDARD
BEGIN:STANDARD
DTSTART:20261025T010000
TZOFFSETFROM:+0100
TZOFFSETTO:+0000
TZNAME:GMT
END:STANDARD
BEGIN:DAYLIGHT
DTSTART:20260329T010000
TZOFFSETFROM:+0000
TZOFFSETTO:+0100
TZNAME:BST
END:DAYLIGHT
END:VTIMEZONE
X-WR-TIMEZONE:Europe/London
BEGIN:VEVENT
DTSTART;TZID=Europe/London:20190126T213000
DTEND;TZID=Europe/London:20190126T220000
RRULE:FREQ=MONTHLY;BYDAY=4SA;INTERVAL=1;UNTIL=20191130T235900Z
UID:85D3413A-9FF8-4721-B6BC-D89AE9B11FE9
SUMMARY:Cobham Farmers Market
CREATED:20190316T174427Z
DTSTAMP:20190316T174427Z
DESCRIPTION:Fresh produce farmers market held in Hollyhedge Road, Cobham, Surrey, KT11 3DG (4th Saturday of each month)
X-ALT-DESC;FMTTYPE=text/html:<p>Fresh produce farmers market held in Hollyhedge Road, Cobham, Surrey, KT11 3DG (4th Saturday of each month)</p>
X-ACCESS:1
X-HITS:0
X-URL:https://www.surreymarkets.co.uk/cobham-market/
X-COLOR:a6cc33
X-SHOW-END-TIME:1
END:VEVENT
BEGIN:VEVENT
DTSTART;TZID=Europe/London:20200125T093000
DTEND;TZID=Europe/London:20200125T140000
RRULE:FREQ=MONTHLY;BYDAY=4SA;INTERVAL=1;UNTIL=20201128T235900Z
UID:977D4348-701B-4C00-BA9B-B2238AC3EF3F
SUMMARY:Cobham Farmers Market (2020)
CREATED:20190316T174427Z
DTSTAMP:20190316T174427Z
DESCRIPTION:Fresh produce farmers market held in Hollyhedge Road, Cobham, Surrey, KT11 3DG (4th Saturday of each month)
X-ALT-DESC;FMTTYPE=text/html:<p>Fresh produce farmers market held in Hollyhedge Road, Cobham, Surrey, KT11 3DG (4th Saturday of each month)</p>
LOCATION:
GEO:51.32885100;-0.41145300
LAST-MODIFIED:20200122T090746Z
SEQUENCE:26925799
X-ACCESS:1
X-HITS:0
X-URL:https://www.surreymarkets.co.uk/cobham-market/
X-COLOR:a6cc33
X-SHOW-END-TIME:1
END:VEVENT
END:VCALENDAR